BEGIN:VCALENDAR
VERSION:2.0
PRODID:-//hacksw/handcal//NONSGML v1.0//EN
BEGIN:VEVENT
SUMMARY:Finale Federale par classement, echelon regional
UID:bd5aa7ba-d7c2-4e3f-b88b-556a643cc133
DTSTART:20260425T220000Z
DTEND:20260426T220000Z
LOCATION:Localisation   
CATEGORIES:Sportif
STATUS:
DESCRIPTION:<p>Eric est qualifie dans le tableau 900 a 1100
 points.</p>
URL;VALUE=URI:https://aubignytt.sportsregions.fr/evenements/2026/04/26/finale-federale-par-classement-echelon-regional-2439068
END:VEVENT
END:VCALENDAR
